BEGIN:VCALENDAR
VERSION:2.0
PRODID:-//FCSI Foodservice Consultants Society - ECPv6.0.4//NONSGML v1.0//EN
CALSCALE:GREGORIAN
METHOD:PUBLISH
X-WR-CALNAME:FCSI Foodservice Consultants Society
X-ORIGINAL-URL:https://www.fcsi.de
X-WR-CALDESC:Veranstaltungen für FCSI Foodservice Consultants Society
REFRESH-INTERVAL;VALUE=DURATION:PT1H
X-Robots-Tag:noindex
X-PUBLISHED-TTL:PT1H
BEGIN:VTIMEZONE
TZID:Europe/Berlin
BEGIN:DAYLIGHT
TZOFFSETFROM:+0100
TZOFFSETTO:+0200
TZNAME:CEST
DTSTART:20260329T010000
END:DAYLIGHT
BEGIN:STANDARD
TZOFFSETFROM:+0200
TZOFFSETTO:+0100
TZNAME:CET
DTSTART:20261025T010000
END:STANDARD
END:VTIMEZONE
BEGIN:VEVENT
DTSTART;TZID=Europe/Berlin:20260619T090000
DTEND;TZID=Europe/Berlin:20260619T100000
DTSTAMP:20260420T044823
CREATED:20260305T100507Z
LAST-MODIFIED:20260305T100507Z
UID:10000074-1781859600-1781863200@www.fcsi.de
SUMMARY:FCSI EAME Highlight Talk
DESCRIPTION:[vc_row type=”in_container” full_screen_row_position=”middle” column_margin=”default” column_direction=”default” column_direction_tablet=”default” column_direction_phone=”default” scene_position=”center” text_color=”dark” text_align=”left” row_border_radius=”none” row_border_radius_applies=”bg” overflow=”visible” overlay_strength=”0.3″ gradient_direction=”left_to_right” shape_divider_position=”bottom” bg_image_animation=”none”][vc_column column_padding=”no-extra-padding” column_padding_tablet=”inherit” column_padding_phone=”inherit” column_padding_position=”all” column_element_direction_desktop=”default” column_element_spacing=”default” desktop_text_alignment=”default” tablet_text_alignment=”default” phone_text_alignment=”default” background_color_opacity=”1″ background_hover_color_opacity=”1″ column_backdrop_filter=”none” column_shadow=”none” column_border_radius=”none” column_link_target=”_self” column_position=”default” gradient_direction=”left_to_right” overlay_strength=”0.3″ width=”1/1″ tablet_width_inherit=”default” animation_type=”default” bg_image_animation=”none” border_type=”simple” column_border_width=”none” column_border_style=”solid”][vc_column_text]Viermal jährlich teilen führende Köpfe der Hospitality-Branche ihre Perspektiven\, Trends und Erfahrungen aus aller Welt.\nDie Termine für 2026 sind:\n– 03. April 2026\n– 19. Juni 2026\n– 18. September 2026\n– 04. Dezember 2026 \nJETZT Teilnehmen![/vc_column_text][/vc_column][/vc_row]
URL:https://www.fcsi.de/event/fcsi-eame-highlight-talk/2026-06-19/
CATEGORIES:Events
ATTACH;FMTTYPE=image/jpeg:https://www.fcsi.de/wp-content/uploads/2026/03/Visuals-FCSI-Website-Veranstaltungen_page-0001.jpg
END:VEVENT
BEGIN:VEVENT
DTSTART;TZID=Europe/Berlin:20260918T090000
DTEND;TZID=Europe/Berlin:20260918T100000
DTSTAMP:20260420T044823
CREATED:20260305T100507Z
LAST-MODIFIED:20260305T100507Z
UID:10000075-1789722000-1789725600@www.fcsi.de
SUMMARY:FCSI EAME Highlight Talk
DESCRIPTION:[vc_row type=”in_container” full_screen_row_position=”middle” column_margin=”default” column_direction=”default” column_direction_tablet=”default” column_direction_phone=”default” scene_position=”center” text_color=”dark” text_align=”left” row_border_radius=”none” row_border_radius_applies=”bg” overflow=”visible” overlay_strength=”0.3″ gradient_direction=”left_to_right” shape_divider_position=”bottom” bg_image_animation=”none”][vc_column column_padding=”no-extra-padding” column_padding_tablet=”inherit” column_padding_phone=”inherit” column_padding_position=”all” column_element_direction_desktop=”default” column_element_spacing=”default” desktop_text_alignment=”default” tablet_text_alignment=”default” phone_text_alignment=”default” background_color_opacity=”1″ background_hover_color_opacity=”1″ column_backdrop_filter=”none” column_shadow=”none” column_border_radius=”none” column_link_target=”_self” column_position=”default” gradient_direction=”left_to_right” overlay_strength=”0.3″ width=”1/1″ tablet_width_inherit=”default” animation_type=”default” bg_image_animation=”none” border_type=”simple” column_border_width=”none” column_border_style=”solid”][vc_column_text]Viermal jährlich teilen führende Köpfe der Hospitality-Branche ihre Perspektiven\, Trends und Erfahrungen aus aller Welt.\nDie Termine für 2026 sind:\n– 03. April 2026\n– 19. Juni 2026\n– 18. September 2026\n– 04. Dezember 2026 \nJETZT Teilnehmen![/vc_column_text][/vc_column][/vc_row]
URL:https://www.fcsi.de/event/fcsi-eame-highlight-talk/2026-09-18/
CATEGORIES:Events
ATTACH;FMTTYPE=image/jpeg:https://www.fcsi.de/wp-content/uploads/2026/03/Visuals-FCSI-Website-Veranstaltungen_page-0001.jpg
END:VEVENT
BEGIN:VEVENT
DTSTART;TZID=Europe/Berlin:20261204T090000
DTEND;TZID=Europe/Berlin:20261204T100000
DTSTAMP:20260420T044823
CREATED:20260305T100507Z
LAST-MODIFIED:20260305T100507Z
UID:10000076-1796374800-1796378400@www.fcsi.de
SUMMARY:FCSI EAME Highlight Talk
DESCRIPTION:[vc_row type=”in_container” full_screen_row_position=”middle” column_margin=”default” column_direction=”default” column_direction_tablet=”default” column_direction_phone=”default” scene_position=”center” text_color=”dark” text_align=”left” row_border_radius=”none” row_border_radius_applies=”bg” overflow=”visible” overlay_strength=”0.3″ gradient_direction=”left_to_right” shape_divider_position=”bottom” bg_image_animation=”none”][vc_column column_padding=”no-extra-padding” column_padding_tablet=”inherit” column_padding_phone=”inherit” column_padding_position=”all” column_element_direction_desktop=”default” column_element_spacing=”default” desktop_text_alignment=”default” tablet_text_alignment=”default” phone_text_alignment=”default” background_color_opacity=”1″ background_hover_color_opacity=”1″ column_backdrop_filter=”none” column_shadow=”none” column_border_radius=”none” column_link_target=”_self” column_position=”default” gradient_direction=”left_to_right” overlay_strength=”0.3″ width=”1/1″ tablet_width_inherit=”default” animation_type=”default” bg_image_animation=”none” border_type=”simple” column_border_width=”none” column_border_style=”solid”][vc_column_text]Viermal jährlich teilen führende Köpfe der Hospitality-Branche ihre Perspektiven\, Trends und Erfahrungen aus aller Welt.\nDie Termine für 2026 sind:\n– 03. April 2026\n– 19. Juni 2026\n– 18. September 2026\n– 04. Dezember 2026 \nJETZT Teilnehmen![/vc_column_text][/vc_column][/vc_row]
URL:https://www.fcsi.de/event/fcsi-eame-highlight-talk/2026-12-04/
CATEGORIES:Events
ATTACH;FMTTYPE=image/jpeg:https://www.fcsi.de/wp-content/uploads/2026/03/Visuals-FCSI-Website-Veranstaltungen_page-0001.jpg
END:VEVENT
END:VCALENDAR